BEGIN:VCALENDAR
VERSION:2.0
PRODID:-//National Council for Geographic Education - ECPv6.13.2.1//NONSGML v1.0//EN
CALSCALE:GREGORIAN
METHOD:PUBLISH
X-ORIGINAL-URL:http://staging.ncge.org
X-WR-CALDESC:Events for National Council for Geographic Education
REFRESH-INTERVAL;VALUE=DURATION:PT1H
X-Robots-Tag:noindex
X-PUBLISHED-TTL:PT1H
BEGIN:VTIMEZONE
TZID:America/New_York
BEGIN:DAYLIGHT
TZOFFSETFROM:-0500
TZOFFSETTO:-0400
TZNAME:EDT
DTSTART:20240310T070000
END:DAYLIGHT
BEGIN:STANDARD
TZOFFSETFROM:-0400
TZOFFSETTO:-0500
TZNAME:EST
DTSTART:20241103T060000
END:STANDARD
END:VTIMEZONE
BEGIN:VEVENT
DTSTART;TZID=America/New_York:20240917T190000
DTEND;TZID=America/New_York:20240917T200000
DTSTAMP:20260420T122001
CREATED:20240713T163254Z
LAST-MODIFIED:20240905T205656Z
UID:10000191-1726599600-1726603200@staging.ncge.org
SUMMARY:GeoCircle: Strategies for Teaching Geographic Content and Vocabulary
DESCRIPTION:About the Facilitators\nMichelle Hamann is a Social Studies teacher in Ridgefield\, Washington. Ridgefield is one of the fastest growing cities in Washington state and quickly transitioning from a rural community to a suburb of Portland\, Oregon\, which gives her lots of opportunity to teach Human Geography just looking out of her classroom window. She is part of a family of geography nerds who most actively express that by visiting major and minor league baseball parks around the United States.With over \n27 years of dedicated service in secondary education\, Maribel Vélez Ramos brings a wealth of experience to the classroom. Ms. Vélez’s teaching philosophy centers on hands-on\, project-based learning (PBL)\, placing students at the forefront of their educational journey. She believes in creating immersive learning experiences\, including educational field trips to historical sites\, to foster a deeper understanding of the subject matter. She also has six years of experience teaching World Geography in a Dual Language program\, where she empowers bilingual students with a deep\, contextual understanding of the subject. \nSession Access\nGeoCircle sessions are free and open access to any educator. Find out more and Join the Circle Session click HERE
URL:http://staging.ncge.org/event/geoed-circle-session-2/
CATEGORIES:GeEd Circle
END:VEVENT
END:VCALENDAR