BEGIN:VCALENDAR
VERSION:2.0
PRODID:-//National Council for Geographic Education - ECPv6.13.2.1//NONSGML v1.0//EN
CALSCALE:GREGORIAN
METHOD:PUBLISH
X-ORIGINAL-URL:http://staging.ncge.org
X-WR-CALDESC:Events for National Council for Geographic Education
REFRESH-INTERVAL;VALUE=DURATION:PT1H
X-Robots-Tag:noindex
X-PUBLISHED-TTL:PT1H
BEGIN:VTIMEZONE
TZID:America/New_York
BEGIN:DAYLIGHT
TZOFFSETFROM:-0500
TZOFFSETTO:-0400
TZNAME:EDT
DTSTART:20240310T070000
END:DAYLIGHT
BEGIN:STANDARD
TZOFFSETFROM:-0400
TZOFFSETTO:-0500
TZNAME:EST
DTSTART:20241103T060000
END:STANDARD
END:VTIMEZONE
BEGIN:VEVENT
DTSTART;TZID=America/New_York:20241022T190000
DTEND;TZID=America/New_York:20241022T200000
DTSTAMP:20260420T090136
CREATED:20240713T163330Z
LAST-MODIFIED:20241008T150931Z
UID:10000192-1729623600-1729627200@staging.ncge.org
SUMMARY:GeoCircle:  Projects through Geographic Inquiry
DESCRIPTION:Summary:\nExplore ideas for projects in on-level World Geography and AP Human Geography. Join the discussion of how the Geographic Inquiry process can help create projects for students. Using the Geographic Inquiry process encourages the students to use a geographic lens when researching geographic topics. \nAbout the Facilitator\nRik Katz has had the honor of learning and teaching Geography for 30 years first at Washington Middle School for 14 years in World Geography\, and then Roosevelt High School here in Seattle with APHG for the last 15 before he retired last year.  He has been honored to lead and learn at geography workshops here in the PNW\, at NCGE\, at AAG\, AP Readings and the IGU. Katz  also presented research two times in Korea\, was honored with NCGE Geography Teacher of the year in 2015. He has also taught social studies as an adjunct at Antioch University form 14 years. \nSession Access\nGeoCircle sessions are free and open access to any educator. Find out more and Join the Circle Session click HERE
URL:http://staging.ncge.org/event/geoed-circle-session-3/
LOCATION:Webinar
CATEGORIES:GeEd Circle
END:VEVENT
END:VCALENDAR